BEGIN:VCALENDAR
VERSION:2.0
PRODID:spatie/icalendar-generator
DESCRIPTION:Events from Trinity Lutheran Church
X-WR-CALDESC:Events from Trinity Lutheran Church
REFRESH-INTERVAL;VALUE=DURATION:PT1440M
X-PUBLISHED-TTL:PT1440M
BEGIN:VTIMEZONE
TZID:Etc/GMT+0
BEGIN:STANDARD
DTSTART:20250824T190000Z
TZOFFSETFROM:+0000
TZOFFSETTO:+0000
END:STANDARD
END:VTIMEZONE
BEGIN:VTIMEZONE
TZID:UTC
BEGIN:STANDARD
DTSTART:20250727T233524Z
TZOFFSETFROM:+0000
TZOFFSETTO:+0000
END:STANDARD
END:VTIMEZONE
BEGIN:VEVENT
UID:551-14
DTSTAMP:20260423T233524Z
SUMMARY:Wine and Word
LOCATION:
ORGANIZER;CN=ErikaO:MAILTO:erika.ohlendorf@gmail.com
RRULE:FREQ=MONTHLY;BYDAY=3TH;UNTIL=20260618T000000Z
DTSTART;TZID=Etc/GMT+0:20260521T190000
DTEND;TZID=Etc/GMT+0:20260521T203000
X-ALT-DESC;FMTTYPE=TEXT/HTML:
CATEGORIES:General
URL;VALUE=URI:https://trinityofwoodbridge.org/calendar/wine-and-word-2/?mc_
 id=551
METHOD:PUBLISH
END:VEVENT
END:VCALENDAR