BEGIN:VCALENDAR
VERSION:2.0
PRODID:spatie/icalendar-generator
DESCRIPTION:Events from Trinity Lutheran Church
X-WR-CALDESC:Events from Trinity Lutheran Church
REFRESH-INTERVAL;VALUE=DURATION:PT1440M
X-PUBLISHED-TTL:PT1440M
BEGIN:VTIMEZONE
TZID:Etc/GMT+0
BEGIN:STANDARD
DTSTART:20240806T080000Z
TZOFFSETFROM:+0000
TZOFFSETTO:+0000
END:STANDARD
END:VTIMEZONE
BEGIN:VTIMEZONE
TZID:UTC
BEGIN:STANDARD
DTSTART:20250728T133404Z
TZOFFSETFROM:+0000
TZOFFSETTO:+0000
END:STANDARD
END:VTIMEZONE
BEGIN:VEVENT
UID:139-21
DTSTAMP:20260424T133404Z
SUMMARY:Church Yard Sale
LOCATION:
ORGANIZER;CN=ErikaO:MAILTO:erika.ohlendorf@gmail.com
DTSTART;TZID=Etc/GMT+0:20250503T080000
DTEND;TZID=Etc/GMT+0:20250503T110000
X-ALT-DESC;FMTTYPE=TEXT/HTML:Our next church-wide yard sale is Saturday\, 
 May 3 (May 10 rain date) from 8 – 11 am. Stop by to find clothing\, je
 welry\, shoes\, small housewares\, toys\, games\, art supplies\, baby and 
 kids’ items\, books\, and more! All money earned from the sale is donate
 d towards the Sunday School mission offering.
CATEGORIES:General
URL;VALUE=URI:https://trinityofwoodbridge.org/calendar/church-yard-sale/
METHOD:PUBLISH
END:VEVENT
END:VCALENDAR