BEGIN:VCALENDAR
VERSION:2.0
PRODID:spatie/icalendar-generator
DESCRIPTION:Events from Trinity Lutheran Church
X-WR-CALDESC:Events from Trinity Lutheran Church
REFRESH-INTERVAL;VALUE=DURATION:PT1440M
X-PUBLISHED-TTL:PT1440M
BEGIN:VTIMEZONE
TZID:Etc/GMT+0
BEGIN:STANDARD
DTSTART:20251030T090000Z
TZOFFSETFROM:+0000
TZOFFSETTO:+0000
END:STANDARD
END:VTIMEZONE
BEGIN:VTIMEZONE
TZID:UTC
BEGIN:STANDARD
DTSTART:20250728T152324Z
TZOFFSETFROM:+0000
TZOFFSETTO:+0000
END:STANDARD
END:VTIMEZONE
BEGIN:VEVENT
UID:576-24
DTSTAMP:20260424T152324Z
SUMMARY:Vacation Bible School
LOCATION:
ORGANIZER;CN=ErikaO:MAILTO:erika.ohlendorf@gmail.com
RRULE:FREQ=DAILY;UNTIL=20260801T000000Z
DTSTART;TZID=Etc/GMT+0:20260727T090000
DTEND;TZID=Etc/GMT+0:20260727T113000
X-ALT-DESC;FMTTYPE=TEXT/HTML:Tropical Trek VBS 2026 July 27 – 31\, 9:00 a
 m – 11:30 am Sign up today for VBS! Throughout this program\, we will go
  on a Tropical Trek and along the way be guided by our Savior\, Jesus who 
 is the way\, the truth\, and the life! Let’s go on an unforgettable jour
 ney! Kids ages&amp;hellip\;
CATEGORIES:General
URL;VALUE=URI:https://trinityofwoodbridge.org/calendar/vacation-bible-schoo
 l/?mc_id=576
METHOD:PUBLISH
END:VEVENT
END:VCALENDAR