BEGIN:VCALENDAR
VERSION:2.0
PRODID:spatie/icalendar-generator
DESCRIPTION:Events from Trinity Lutheran Church
X-WR-CALDESC:Events from Trinity Lutheran Church
REFRESH-INTERVAL;VALUE=DURATION:PT1440M
X-PUBLISHED-TTL:PT1440M
BEGIN:VTIMEZONE
TZID:Etc/GMT+0
BEGIN:STANDARD
DTSTART:20250819T190000Z
TZOFFSETFROM:+0000
TZOFFSETTO:+0000
END:STANDARD
END:VTIMEZONE
BEGIN:VTIMEZONE
TZID:UTC
BEGIN:STANDARD
DTSTART:20250728T034512Z
TZOFFSETFROM:+0000
TZOFFSETTO:+0000
END:STANDARD
END:VTIMEZONE
BEGIN:VEVENT
UID:570-42
DTSTAMP:20260424T034512Z
SUMMARY:Outdoor Movie Night
LOCATION:
ORGANIZER;CN=ErikaO:MAILTO:erika.ohlendorf@gmail.com
DTSTART;TZID=Etc/GMT+0:20260516T190000
DTEND;TZID=Etc/GMT+0:20260516T213000
X-ALT-DESC;FMTTYPE=TEXT/HTML:Join us for an outdoor movie on Saturday\, Ma
 y 16 at 7pm\, hosted by the youth group. Join us for David (2025)\, an a
 nimated musical film from Angel Studios that depicts his rise from shepher
 d to king. The whole family is invited! Bring your picnic blankets. Free p
 opcorn will be provided.
CATEGORIES:General
URL;VALUE=URI:https://trinityofwoodbridge.org/calendar/outdoor-movie-night/
METHOD:PUBLISH
END:VEVENT
END:VCALENDAR