BEGIN:VCALENDAR
VERSION:2.0
PRODID:spatie/icalendar-generator
DESCRIPTION:Events from Trinity Lutheran Church
X-WR-CALDESC:Events from Trinity Lutheran Church
REFRESH-INTERVAL;VALUE=DURATION:PT1440M
X-PUBLISHED-TTL:PT1440M
BEGIN:VTIMEZONE
TZID:Etc/GMT+0
BEGIN:STANDARD
DTSTART:20250709T093000Z
TZOFFSETFROM:+0000
TZOFFSETTO:+0000
END:STANDARD
END:VTIMEZONE
BEGIN:VTIMEZONE
TZID:UTC
BEGIN:STANDARD
DTSTART:20250727T163523Z
TZOFFSETFROM:+0000
TZOFFSETTO:+0000
END:STANDARD
END:VTIMEZONE
BEGIN:VEVENT
UID:524-19
DTSTAMP:20260423T163523Z
SUMMARY:Easter Potluck Brunch
LOCATION:
ORGANIZER;CN=ErikaO:MAILTO:erika.ohlendorf@gmail.com
DTSTART;TZID=Etc/GMT+0:20260405T093000
DTEND;TZID=Etc/GMT+0:20260405T104500
X-ALT-DESC;FMTTYPE=TEXT/HTML:
CATEGORIES:General
URL;VALUE=URI:https://trinityofwoodbridge.org/calendar/easter-potluck-brunc
 h/
METHOD:PUBLISH
END:VEVENT
END:VCALENDAR