BEGIN:VCALENDAR
VERSION:2.0
PRODID:spatie/icalendar-generator
DESCRIPTION:Events from Trinity Lutheran Church
X-WR-CALDESC:Events from Trinity Lutheran Church
REFRESH-INTERVAL;VALUE=DURATION:PT1440M
X-PUBLISHED-TTL:PT1440M
BEGIN:VTIMEZONE
TZID:Etc/GMT+0
BEGIN:STANDARD
DTSTART:20250716T094500Z
TZOFFSETFROM:+0000
TZOFFSETTO:+0000
END:STANDARD
END:VTIMEZONE
BEGIN:VTIMEZONE
TZID:UTC
BEGIN:STANDARD
DTSTART:20250727T150957Z
TZOFFSETFROM:+0000
TZOFFSETTO:+0000
END:STANDARD
END:VTIMEZONE
BEGIN:VEVENT
UID:446-3
DTSTAMP:20260423T150957Z
SUMMARY:Sunday School
LOCATION:Trinity Lutheran Church of Woodbridge 12345 Cotton Mill Drive  Woo
 dbridge VA  22192
ORGANIZER;CN=Miguel Quintero:MAILTO:miquintero@icloud.com
RRULE:FREQ=WEEKLY;UNTIL=20260524T000000Z
DTSTART;TZID=Etc/GMT+0:20260412T094500
DTEND;TZID=Etc/GMT+0:20260412T104500
X-ALT-DESC;FMTTYPE=TEXT/HTML:
CATEGORIES:General
URL;VALUE=URI:https://trinityofwoodbridge.org/calendar/sunday-school/?mc_id
 =446
METHOD:PUBLISH
END:VEVENT
END:VCALENDAR