BEGIN:VCALENDAR
VERSION:2.0
PRODID:spatie/icalendar-generator
DESCRIPTION:Events from Trinity Lutheran Church
X-WR-CALDESC:Events from Trinity Lutheran Church
REFRESH-INTERVAL;VALUE=DURATION:PT1440M
X-PUBLISHED-TTL:PT1440M
BEGIN:VTIMEZONE
TZID:Etc/GMT+0
BEGIN:STANDARD
DTSTART:20241116T180000Z
TZOFFSETFROM:+0000
TZOFFSETTO:+0000
END:STANDARD
END:VTIMEZONE
BEGIN:VTIMEZONE
TZID:UTC
BEGIN:STANDARD
DTSTART:20250728T051015Z
TZOFFSETFROM:+0000
TZOFFSETTO:+0000
END:STANDARD
END:VTIMEZONE
BEGIN:VEVENT
UID:379-30
DTSTAMP:20260424T051015Z
SUMMARY:Movie Night
LOCATION:
ORGANIZER;CN=ErikaO:MAILTO:erika.ohlendorf@gmail.com
DTSTART;TZID=Etc/GMT+0:20250813T180000
DTEND;TZID=Etc/GMT+0:20250813T201500
X-ALT-DESC;FMTTYPE=TEXT/HTML:Join us at 6:00 pm for dinner in our Fellowshi
 p Hall and a movie (Joseph and the Amazing Technicolor Dreamcoat). A short
  discussion will follow. All are welcome!
CATEGORIES:General
URL;VALUE=URI:https://trinityofwoodbridge.org/calendar/movie-night/
METHOD:PUBLISH
END:VEVENT
END:VCALENDAR