BEGIN:VCALENDAR
VERSION:2.0
PRODID:spatie/icalendar-generator
DESCRIPTION:Events from Trinity Lutheran Church
X-WR-CALDESC:Events from Trinity Lutheran Church
REFRESH-INTERVAL;VALUE=DURATION:PT1440M
X-PUBLISHED-TTL:PT1440M
BEGIN:VTIMEZONE
TZID:Etc/GMT+0
BEGIN:STANDARD
DTSTART:20241105T093000Z
TZOFFSETFROM:+0000
TZOFFSETTO:+0000
END:STANDARD
END:VTIMEZONE
BEGIN:VTIMEZONE
TZID:UTC
BEGIN:STANDARD
DTSTART:20250727T210129Z
TZOFFSETFROM:+0000
TZOFFSETTO:+0000
END:STANDARD
END:VTIMEZONE
BEGIN:VEVENT
UID:337-28
DTSTAMP:20260423T210129Z
SUMMARY:Book Club at Cuppi Coffee in Dumfries
LOCATION:Cuppi Coffee 16830 Dumfries Rd  Unit 120\, Dumfries\, VA 22025 Dum
 fries VA 22025
ORGANIZER;CN=ErikaO:MAILTO:erika.ohlendorf@gmail.com
DTSTART;TZID=Etc/GMT+0:20250802T093000
DTEND;TZID=Etc/GMT+0:20250802T103000
X-ALT-DESC;FMTTYPE=TEXT/HTML:The Trinity Book Club invites you to join them
  on to discuss the Biblical fiction novel On Living Stone by Heather Kaufm
 an.
CATEGORIES:General
URL;VALUE=URI:https://trinityofwoodbridge.org/calendar/book-club-at-cuppi-c
 offee-in-dumfries-2/
METHOD:PUBLISH
END:VEVENT
END:VCALENDAR