BEGIN:VCALENDAR
VERSION:2.0
PRODID:spatie/icalendar-generator
DESCRIPTION:Events from Trinity Lutheran Church
X-WR-CALDESC:Events from Trinity Lutheran Church
REFRESH-INTERVAL;VALUE=DURATION:PT1440M
X-PUBLISHED-TTL:PT1440M
BEGIN:VTIMEZONE
TZID:Etc/GMT+0
BEGIN:STANDARD
DTSTART:20241021T180000Z
TZOFFSETFROM:+0000
TZOFFSETTO:+0000
END:STANDARD
END:VTIMEZONE
BEGIN:VTIMEZONE
TZID:UTC
BEGIN:STANDARD
DTSTART:20250728T040024Z
TZOFFSETFROM:+0000
TZOFFSETTO:+0000
END:STANDARD
END:VTIMEZONE
BEGIN:VEVENT
UID:335-26
DTSTAMP:20260424T040024Z
SUMMARY:Family Night
LOCATION:
ORGANIZER;CN=ErikaO:MAILTO:erika.ohlendorf@gmail.com
DTSTART;TZID=Etc/GMT+0:20250718T180000
DTEND;TZID=Etc/GMT+0:20250718T190000
X-ALT-DESC;FMTTYPE=TEXT/HTML:Join us for a VBS sing-along and cookout. Ever
 yone is welcome!
CATEGORIES:General
URL;VALUE=URI:https://trinityofwoodbridge.org/calendar/family-night/
METHOD:PUBLISH
END:VEVENT
END:VCALENDAR