BEGIN:VCALENDAR
VERSION:2.0
PRODID:spatie/icalendar-generator
DESCRIPTION:Events from Trinity Lutheran Church
X-WR-CALDESC:Events from Trinity Lutheran Church
REFRESH-INTERVAL;VALUE=DURATION:PT1440M
X-PUBLISHED-TTL:PT1440M
BEGIN:VTIMEZONE
TZID:Etc/GMT+0
BEGIN:STANDARD
DTSTART:20241030T091500Z
TZOFFSETFROM:+0000
TZOFFSETTO:+0000
END:STANDARD
END:VTIMEZONE
BEGIN:VTIMEZONE
TZID:UTC
BEGIN:STANDARD
DTSTART:20250727T234112Z
TZOFFSETFROM:+0000
TZOFFSETTO:+0000
END:STANDARD
END:VTIMEZONE
BEGIN:VEVENT
UID:329-25
DTSTAMP:20260423T234112Z
SUMMARY:Summer Adult Bible Class
LOCATION:
ORGANIZER;CN=ErikaO:MAILTO:erika.ohlendorf@gmail.com
RRULE:FREQ=WEEKLY;UNTIL=20250907T000000Z
DTSTART;TZID=Etc/GMT+0:20250727T091500
DTEND;TZID=Etc/GMT+0:20250727T094500
X-ALT-DESC;FMTTYPE=TEXT/HTML:
CATEGORIES:General
URL;VALUE=URI:https://trinityofwoodbridge.org/calendar/summer-adult-bible-c
 lass/?mc_id=329
METHOD:PUBLISH
END:VEVENT
END:VCALENDAR