BEGIN:VCALENDAR
VERSION:2.0
PRODID:spatie/icalendar-generator
DESCRIPTION:Events from Trinity Lutheran Church
X-WR-CALDESC:Events from Trinity Lutheran Church
REFRESH-INTERVAL;VALUE=DURATION:PT1440M
X-PUBLISHED-TTL:PT1440M
BEGIN:VTIMEZONE
TZID:Etc/GMT+0
BEGIN:STANDARD
DTSTART:20241218T083000Z
TZOFFSETFROM:+0000
TZOFFSETTO:+0000
END:STANDARD
END:VTIMEZONE
BEGIN:VTIMEZONE
TZID:UTC
BEGIN:STANDARD
DTSTART:20250727T193522Z
TZOFFSETFROM:+0000
TZOFFSETTO:+0000
END:STANDARD
END:VTIMEZONE
BEGIN:VEVENT
UID:264-2
DTSTAMP:20260423T193522Z
SUMMARY:Worship
LOCATION:Trinity Lutheran Church of Woodbridge 12345 Cotton Mill Drive  Woo
 dbridge VA  22192
ORGANIZER;CN=Miguel Quintero:MAILTO:miquintero@icloud.com
RRULE:FREQ=WEEKLY;UNTIL=20260531T000000Z
DTSTART;TZID=Etc/GMT+0:20250914T083000
DTEND;TZID=Etc/GMT+0:20250914T093000
X-ALT-DESC;FMTTYPE=TEXT/HTML:
CATEGORIES:General
URL;VALUE=URI:https://trinityofwoodbridge.org/calendar/worship/?mc_id=264
METHOD:PUBLISH
END:VEVENT
END:VCALENDAR