BEGIN:VCALENDAR
VERSION:2.0
PRODID:spatie/icalendar-generator
DESCRIPTION:Events from Trinity Lutheran Church
X-WR-CALDESC:Events from Trinity Lutheran Church
REFRESH-INTERVAL;VALUE=DURATION:PT1440M
X-PUBLISHED-TTL:PT1440M
BEGIN:VTIMEZONE
TZID:Etc/GMT+0
BEGIN:STANDARD
DTSTART:20240423T093000Z
TZOFFSETFROM:+0000
TZOFFSETTO:+0000
END:STANDARD
END:VTIMEZONE
BEGIN:VTIMEZONE
TZID:UTC
BEGIN:STANDARD
DTSTART:20250727T234047Z
TZOFFSETFROM:+0000
TZOFFSETTO:+0000
END:STANDARD
END:VTIMEZONE
BEGIN:VEVENT
UID:109-8
DTSTAMP:20260423T234047Z
SUMMARY:Book Club
LOCATION:
ORGANIZER;CN=Miguel Quintero:MAILTO:miquintero@icloud.com
DTSTART;TZID=Etc/GMT+0:20250118T093000
DTEND;TZID=Etc/GMT+0:20250118T103000
X-ALT-DESC;FMTTYPE=TEXT/HTML:January 18 at 9:30 am Trinity’s Book club wi
 ll meet at 9:30am on Saturday\, January 18\, at Cuppi Coffee in Dumfries. 
 Please join us to discuss An Hour Unspent by Roseanna M. White and to ch
 oose our next read! New members are always welcome.
CATEGORIES:General
URL;VALUE=URI:https://trinityofwoodbridge.org/calendar/book-club/
METHOD:PUBLISH
END:VEVENT
END:VCALENDAR