BEGIN:VCALENDAR
VERSION:2.0
PRODID:spatie/icalendar-generator
DESCRIPTION:Events from Trinity Lutheran Church
X-WR-CALDESC:Events from Trinity Lutheran Church
REFRESH-INTERVAL;VALUE=DURATION:PT1440M
X-PUBLISHED-TTL:PT1440M
BEGIN:VTIMEZONE
TZID:Etc/GMT+0
BEGIN:STANDARD
DTSTART:20240514T090000Z
TZOFFSETFROM:+0000
TZOFFSETTO:+0000
END:STANDARD
END:VTIMEZONE
BEGIN:VTIMEZONE
TZID:UTC
BEGIN:STANDARD
DTSTART:20250728T010614Z
TZOFFSETFROM:+0000
TZOFFSETTO:+0000
END:STANDARD
END:VTIMEZONE
BEGIN:VEVENT
UID:105-6
DTSTAMP:20260424T010614Z
SUMMARY:Women’s Bible Study
LOCATION:Trinity Lutheran Church of Woodbridge 12345 Cotton Mill Drive  Woo
 dbridge VA  22192
ORGANIZER;CN=Miguel Quintero:MAILTO:miquintero@icloud.com
RRULE:FREQ=MONTHLY;BYDAY=2SA;UNTIL=20250511T000000Z
DTSTART;TZID=Etc/GMT+0:20250208T090000
DTEND;TZID=Etc/GMT+0:20250208T100000
X-ALT-DESC;FMTTYPE=TEXT/HTML:2024 – 2025 Meeting Dates Chapter 1: Septemb
 er 14\, 2024 Chapter 2: October 12\, 2024 Chapter 3: November 9\, 2024 Cha
 pter 4: January 11\, 2025 (Rescheduled to January 25\, 2025) Chapter 5: 
 February 8\, 2025 Chapter 6: March 8\, 2025 Chapter 7: April 5\, 2025* Cha
 pter 8: May 10\, 2025 *First Saturday of the month
CATEGORIES:General
URL;VALUE=URI:https://trinityofwoodbridge.org/calendar/womens-bible-study-2
 /?mc_id=105
METHOD:PUBLISH
END:VEVENT
END:VCALENDAR