BEGIN:VCALENDAR
VERSION:2.0
PRODID:spatie/icalendar-generator
DESCRIPTION:Events from Trinity Lutheran Church
X-WR-CALDESC:Events from Trinity Lutheran Church
REFRESH-INTERVAL;VALUE=DURATION:PT1440M
X-PUBLISHED-TTL:PT1440M
BEGIN:VTIMEZONE
TZID:Etc/GMT+0
BEGIN:STANDARD
DTSTART:20240430T090000Z
TZOFFSETFROM:+0000
TZOFFSETTO:+0000
END:STANDARD
END:VTIMEZONE
BEGIN:VTIMEZONE
TZID:UTC
BEGIN:STANDARD
DTSTART:20250728T050850Z
TZOFFSETFROM:+0000
TZOFFSETTO:+0000
END:STANDARD
END:VTIMEZONE
BEGIN:VEVENT
UID:104-5
DTSTAMP:20260424T050850Z
SUMMARY:Women’s Bible Study
LOCATION:
ORGANIZER;CN=Miguel Quintero:MAILTO:miquintero@icloud.com
DTSTART;TZID=Etc/GMT+0:20250125T090000
DTEND;TZID=Etc/GMT+0:20250125T100000
X-ALT-DESC;FMTTYPE=TEXT/HTML:Chapter 4: January 11\, 2025 (Rescheduled to
  January 25\, 2025) Looking for an opportunity to grow in God’s Word and
  for fellowship with other women? We’d love to have you join our Women
 ’s Bible Study! Learn more
CATEGORIES:General
URL;VALUE=URI:https://trinityofwoodbridge.org/calendar/womens-bible-study/
METHOD:PUBLISH
END:VEVENT
END:VCALENDAR